BEGIN:VCALENDAR
VERSION:2.0
PRODID:-//eventon.com NONSGML v1.0//EN
CALSCALE:GREGORIAN
METHOD:PUBLISH
BEGIN:VEVENT
UID:69eb9517a34f6
DTSTAMP:20260424T160647Z
DTSTART:20260523T160000Z
DTEND:20260523T200000Z
LOCATION:
SUMMARY:Dr. Anders met Keuzestress
DESCRIPTION:Eigenzinnige liedjes\,  gedichten en gedachten over mooie dinge
 n en onvolkomenheden van het leven. Dr. Anders&nbsp;met&nbsp;Keuzestress! K
 leinkunstenaar doctor Anders\,  ‘Wetenschapper voor de Grap’ zingt\,  b
 egeleidt zichzelf op gitaar en praat dat aan elkaar met een dosis&nbsp;iron
 ie en een vleug&nbsp;melancholie. Zie&nbsp;www.doctorAnders.nl&nbsp; Na zij
 n professionele leven als wetenschapper volgde hij de Paul van[..]\nhttps:/
 /tickets.pinksterfestivalbrummen.nl/evenement/test-1-voorstelling-1800-1900
 /
URL:https://tickets.pinksterfestivalbrummen.nl/evenement/test-1-voorstelling-1800-1900/
END:VEVENT
END:VCALENDAR