BEGIN:VCALENDAR
VERSION:2.0
PRODID:-//eventon.com NONSGML v1.0//EN
CALSCALE:GREGORIAN
METHOD:PUBLISH
BEGIN:VEVENT
UID:69eb949b1e709
DTSTAMP:20260424T160443Z
DTSTART:20260523T180000Z
DTEND:20260523T210000Z
LOCATION:
SUMMARY:Theaterdiner
DESCRIPTION:Schuif aan en geniet van een sfeervol theaterdiner tijdens he
 t Pinksterfestival in Brummen. Een gezellige avond uit\,  waarbij u in een 
 bijzondere sfeer kunt genieten van een diner verzorgd door Tante Blanche\, 
  Concordia en Kromhout. Het belooft een warme\,  gezellige en smakelijke er
 varing te worden in het hart van het festival. Belangrijk:&nbsp;het[..]\nht
 tps://tickets.pinksterfestivalbrummen.nl/evenement/theaterdiner/
URL:https://tickets.pinksterfestivalbrummen.nl/evenement/theaterdiner/
END:VEVENT
END:VCALENDAR