BEGIN:VCALENDAR
VERSION:2.0
PRODID:-//eventon.com NONSGML v1.0//EN
CALSCALE:GREGORIAN
METHOD:PUBLISH
BEGIN:VEVENT
UID:69eb95bcb0387
DTSTAMP:20260424T160932Z
DTSTART:20260523T160000Z
DTEND:20260523T200000Z
LOCATION:
SUMMARY:Muziektheater José
DESCRIPTION:Muziektheater José Bij Muziektheater José spat het plezier va
 n het podium! José Buijsman zingt met haar warme stem nummers uit de popmu
 ziek\,  vertelt er herkenbare en humoristische verhalen bij en begeleidt zi
 chzelf op piano. Korte impressie van de inhoud In haar eerste optreden vert
 elt José over vervulde en onvervulde wensen.[..]\nhttps://tickets.pinkster
 festivalbrummen.nl/evenement/theaterwagen-2/
URL:https://tickets.pinksterfestivalbrummen.nl/evenement/theaterwagen-2/
END:VEVENT
END:VCALENDAR