BEGIN:VCALENDAR
VERSION:2.0
PRODID:-//eventon.com NONSGML v1.0//EN
CALSCALE:GREGORIAN
METHOD:PUBLISH
BEGIN:VEVENT
UID:69eb95e249b30
DTSTAMP:20260424T161010Z
DTSTART:20260523T160000Z
DTEND:20260523T200000Z
LOCATION:
SUMMARY:La Grasse Matinée
DESCRIPTION:La Grasse Matinée is een akoestisch trio met viool\,  gitaar e
 n contrabas. Onder leiding van violist Bert Smits brengt het trio\,  vanuit
  een basis van gypsy jazz\,  een fijn repertoire met uitstapjes naar onder 
 andere tango\,  musette\,  rumba en csárdás. Bert wordt begeleid door Mar
 cel Snijders op contrabas en Martien[..]\nhttps://tickets.pinksterfestivalb
 rummen.nl/evenement/theaterwagen-3/
URL:https://tickets.pinksterfestivalbrummen.nl/evenement/theaterwagen-3/
END:VEVENT
END:VCALENDAR