BEGIN:VCALENDAR
VERSION:2.0
PRODID:-//eventon.com NONSGML v1.0//EN
CALSCALE:GREGORIAN
METHOD:PUBLISH
BEGIN:VEVENT
UID:69eb947c9d4ed
DTSTAMP:20260424T160412Z
DTSTART:20260523T160000Z
DTEND:20260523T200000Z
LOCATION:
SUMMARY:Calamity Caroline - Wortelschieten
DESCRIPTION:Na een sabbatical klimt Calamity Caroline voor de zevende keer 
 in de theaterwagen\,  dit keer met een cabaretje getiteld “Wortelschieten
 ”. Waarom lukt het soms wel en soms niet om wortel te schieten? Waarom lu
 kt het de een wel daar\,  maar de ander alleen hier? Kun je wortelloos door
  het leven?[..]\nhttps://tickets.pinksterfestivalbrummen.nl/evenement/theat
 erwagen-4/
URL:https://tickets.pinksterfestivalbrummen.nl/evenement/theaterwagen-4/
END:VEVENT
END:VCALENDAR