BEGIN:VCALENDAR
VERSION:2.0
PRODID:-//eventon.com NONSGML v1.0//EN
CALSCALE:GREGORIAN
METHOD:PUBLISH
BEGIN:VEVENT
UID:69eb958887498
DTSTAMP:20260424T160840Z
DTSTART:20260523T160000Z
DTEND:20260523T200000Z
LOCATION:
SUMMARY:Mystic
DESCRIPTION:Mystic brengt covers\,  van ballads tot feelgood hits. Door hun
  zichtbare plezier in muziek maken\,  creëren zij een intieme\,  gezellige
  sfeer\,  waarin het publiek zich snel thuis voelt. Inge (piano\,  zang) en
  Henne (gitaar en zang) zijn van een mysterieus stel uitgegroeid tot een ge
 liefd ‘huis-\,  tuin- en caféduo’ Zij[..]\nhttps://tickets.pinksterfes
 tivalbrummen.nl/evenement/theaterwagen-5/
URL:https://tickets.pinksterfestivalbrummen.nl/evenement/theaterwagen-5/
END:VEVENT
END:VCALENDAR