BEGIN:VCALENDAR
VERSION:2.0
PRODID:-//eventon.com NONSGML v1.0//EN
CALSCALE:GREGORIAN
METHOD:PUBLISH
BEGIN:VEVENT
UID:69eb94cac7431
DTSTAMP:20260424T160530Z
DTSTART:20260523T160000Z
DTEND:20260523T200000Z
LOCATION:
SUMMARY:The Sisters
DESCRIPTION:Drie stemmen\,  één missie: nostalgie nieuw leven inblazen.Th
 e Sisters brengen close harmony zoals je die kent van o.a. The Andrews Sist
 ers en The McGuire Sisters; strak\,  stijlvol en met een knipoog.In hun knu
 sse theaterwagen nemen ze je even mee naar toen… en voor je het weet blij
 f je hangen.\nhttps://tickets.pinksterfestivalbrummen.nl/evenement/the-sist
 ers/
URL:https://tickets.pinksterfestivalbrummen.nl/evenement/the-sisters/
END:VEVENT
END:VCALENDAR