BEGIN:VCALENDAR
VERSION:2.0
PRODID:-//eventon.com NONSGML v1.0//EN
CALSCALE:GREGORIAN
METHOD:PUBLISH
BEGIN:VEVENT
UID:69eb951cb4cce
DTSTAMP:20260424T160652Z
DTSTART:20260523T160000Z
DTEND:20260523T200000Z
LOCATION:
SUMMARY:Los Pajaritos
DESCRIPTION:Los Pajaritos zingen Spaanstalig\,  meerstemmig en hartverwarme
 nd\,  Flamenco met een bite en een knipoog! (&#8230;Het is pas feest als lo
 s Pajaritos zijn geweest..! 😉 Los Pajaritos (&#8216;de vogeltjes&#8217;
  in het Spaans) zingen Spaanstalig\,  meerstemmig en hartverwarmend! Vijf d
 ames met het hart op de juiste plaats&#8230; geworteld in de Hollandse kle
 i maar met[..]\nhttps://tickets.pinksterfestivalbrummen.nl/evenement/los-pa
 jaritos/
URL:https://tickets.pinksterfestivalbrummen.nl/evenement/los-pajaritos/
END:VEVENT
END:VCALENDAR