BEGIN:VCALENDAR
VERSION:2.0
PRODID:-//eventon.com NONSGML v1.0//EN
CALSCALE:GREGORIAN
METHOD:PUBLISH
BEGIN:VEVENT
UID:69eb95556c805
DTSTAMP:20260424T160749Z
DTSTART:20260523T160000Z
DTEND:20260523T200000Z
LOCATION:
SUMMARY:The Enchanted tree
DESCRIPTION:The Enchanted Tree neemt je mee naar de Keltische wereld met ha
 ar folktradities. Celtic Folk &nbsp;muziek&nbsp; &nbsp; &#8211;&nbsp;The&nb
 sp;Enchanted&nbsp;Tree&nbsp;is een muzikaal ensemble dat zich laat inspirer
 en door de rijke folktradities en het betoverende landschap van de Keltisch
 e wereld. Ierse liederen – zowel traditioneel als modern – vormen de ke
 rn van ons[..]\nhttps://tickets.pinksterfestivalbrummen.nl/evenement/the-en
 chanted-tree/
URL:https://tickets.pinksterfestivalbrummen.nl/evenement/the-enchanted-tree/
END:VEVENT
END:VCALENDAR