BEGIN:VCALENDAR
VERSION:2.0
PRODID:-//eventon.com NONSGML v1.0//EN
CALSCALE:GREGORIAN
METHOD:PUBLISH
BEGIN:VEVENT
UID:69eb94c5085bc
DTSTAMP:20260424T160525Z
DTSTART:20260523T160000Z
DTEND:20260523T200000Z
LOCATION:
SUMMARY:Plots
DESCRIPTION:Brummen\,  ze zijn er weer…… de spelers van improvisa e the
 atergroep PLOTS uit Zutphen! Een voorstelling vol humor\,  spanning en ontr
 oering. Bij PLOTS ontstaat alles spontaan. De verhaallijn borrelt bij de sp
 elers als vanzelf omhoog waardoor er unieke en plotselinge situaties ontsta
 an. Mis het niet en kom kijken!!\nhttps://tickets.pinksterfestivalbrummen.n
 l/evenement/plots/
URL:https://tickets.pinksterfestivalbrummen.nl/evenement/plots/
END:VEVENT
END:VCALENDAR