BEGIN:VCALENDAR
VERSION:2.0
PRODID:-//eventon.com NONSGML v1.0//EN
CALSCALE:GREGORIAN
METHOD:PUBLISH
BEGIN:VEVENT
UID:69eb942d9ca66
DTSTAMP:20260424T160253Z
DTSTART:20260523T160000Z
DTEND:20260523T200000Z
LOCATION:
SUMMARY:Taal aan het woord
DESCRIPTION:In deze voorstelling willen we u verrassen met een aantal versc
 hillende kanten van onze taal. Afwisselend laten Jan Andriessen (Empe) en E
 va (Cortenoever) u een mix horen van korte\,  luchtige verhalen die opgebou
 wd zijn uit een mengsel van observaties en verzinsels én gedichten die dic
 ht bij de wereld van alledag[..]\nhttps://tickets.pinksterfestivalbrummen.n
 l/evenement/taal-aan-het-woord/
URL:https://tickets.pinksterfestivalbrummen.nl/evenement/taal-aan-het-woord/
END:VEVENT
END:VCALENDAR