BEGIN:VCALENDAR
VERSION:2.0
PRODID:-//eventon.com NONSGML v1.0//EN
CALSCALE:GREGORIAN
METHOD:PUBLISH
BEGIN:VEVENT
UID:69eba9e72bb17
DTSTAMP:20260424T173535Z
DTSTART:20260522T163000Z
DTEND:20260522T183000Z
LOCATION:
SUMMARY:Hollandse Muziekbingo
DESCRIPTION:\nhttps://tickets.pinksterfestivalbrummen.nl/evenement/hollands
 e-muziekbingo/
URL:https://tickets.pinksterfestivalbrummen.nl/evenement/hollandse-muziekbingo/
END:VEVENT
END:VCALENDAR